BEGIN:VCALENDAR
VERSION:2.0
PRODID:-//The Wayfarers A Cappella Chorus - ECPv6.15.20//NONSGML v1.0//EN
CALSCALE:GREGORIAN
METHOD:PUBLISH
X-WR-CALNAME:The Wayfarers A Cappella Chorus
X-ORIGINAL-URL:https://www.wayfarerschorus.com
X-WR-CALDESC:Events for The Wayfarers A Cappella Chorus
REFRESH-INTERVAL;VALUE=DURATION:PT1H
X-Robots-Tag:noindex
X-PUBLISHED-TTL:PT1H
BEGIN:VTIMEZONE
TZID:Europe/London
BEGIN:DAYLIGHT
TZOFFSETFROM:+0000
TZOFFSETTO:+0100
TZNAME:BST
DTSTART:20220327T010000
END:DAYLIGHT
BEGIN:STANDARD
TZOFFSETFROM:+0100
TZOFFSETTO:+0000
TZNAME:GMT
DTSTART:20221030T010000
END:STANDARD
BEGIN:DAYLIGHT
TZOFFSETFROM:+0000
TZOFFSETTO:+0100
TZNAME:BST
DTSTART:20230326T010000
END:DAYLIGHT
BEGIN:STANDARD
TZOFFSETFROM:+0100
TZOFFSETTO:+0000
TZNAME:GMT
DTSTART:20231029T010000
END:STANDARD
BEGIN:DAYLIGHT
TZOFFSETFROM:+0000
TZOFFSETTO:+0100
TZNAME:BST
DTSTART:20240331T010000
END:DAYLIGHT
BEGIN:STANDARD
TZOFFSETFROM:+0100
TZOFFSETTO:+0000
TZNAME:GMT
DTSTART:20241027T010000
END:STANDARD
END:VTIMEZONE
BEGIN:VEVENT
DTSTART;TZID=Europe/London:20231212T190000
DTEND;TZID=Europe/London:20231212T230000
DTSTAMP:20260424T072509
CREATED:20230724T113602Z
LAST-MODIFIED:20230724T113602Z
UID:102444-1702407600-1702422000@www.wayfarerschorus.com
SUMMARY:Christmas Party
DESCRIPTION:Our first Christmas Party since lockdown and we intend to make it a good one! \nIf you would like a spot\, to put on some form of entertainment\, contact Ray Robbo.
URL:https://www.wayfarerschorus.com/event/christmas-party-2/
LOCATION:Southport Bijou Cinema\, 8 Post Office Avenue\, Southport\, Merseyside\, PR9 0US\, United Kingdom
CATEGORIES:Private Event
END:VEVENT
END:VCALENDAR